BEGIN:VCALENDAR
VERSION:2.0
PRODID:-//Bundesverband pdUK - Alles rund um die pauschaldotierte Unterstützungskasse - ECPv5.3.1.1//NONSGML v1.0//EN
CALSCALE:GREGORIAN
METHOD:PUBLISH
X-WR-CALNAME:Bundesverband pdUK - Alles rund um die pauschaldotierte Unterstützungskasse
X-ORIGINAL-URL:https://bundesverband-pduk.de
X-WR-CALDESC:Veranstaltungen für Bundesverband pdUK - Alles rund um die pauschaldotierte Unterstützungskasse
BEGIN:VTIMEZONE
TZID:Europe/Berlin
BEGIN:DAYLIGHT
TZOFFSETFROM:+0100
TZOFFSETTO:+0200
TZNAME:CEST
DTSTART:20220327T010000
END:DAYLIGHT
BEGIN:STANDARD
TZOFFSETFROM:+0200
TZOFFSETTO:+0100
TZNAME:CET
DTSTART:20221030T010000
END:STANDARD
END:VTIMEZONE
BEGIN:VEVENT
DTSTART;TZID=Europe/Berlin:20221114T100000
DTEND;TZID=Europe/Berlin:20221114T110000
DTSTAMP:20260422T195245
CREATED:20220112T131929Z
LAST-MODIFIED:20220112T131929Z
UID:3636-1668420000-1668423600@bundesverband-pduk.de
SUMMARY:Online Seminar: Die größten Fehler und Irrtümer in der bAV
DESCRIPTION:Präsentation mit ausführlicher Frage- und Diskussionsrunde \nReferent: Manfred Baier Wirtschaftsprüfer/Steuerberater \n  \nFür eine kostenlose Anmeldung zum Online-Seminar wenden Sie sich bitte an:  baier@bundesverband-pduk.de
URL:https://bundesverband-pduk.de/veranstaltung/online-seminar-die-groessten-fehler-und-irrtuemer-in-der-bav-3/
ORGANIZER;CN="Bundesverband%20pdUK":MAILTO:info@bvpduk.de
END:VEVENT
END:VCALENDAR