BEGIN:VCALENDAR
VERSION:2.0
PRODID:-//Bundesverband pdUK - Alles rund um die pauschaldotierte Unterstützungskasse - ECPv5.3.1.1//NONSGML v1.0//EN
CALSCALE:GREGORIAN
METHOD:PUBLISH
X-WR-CALNAME:Bundesverband pdUK - Alles rund um die pauschaldotierte Unterstützungskasse
X-ORIGINAL-URL:https://bundesverband-pduk.de
X-WR-CALDESC:Veranstaltungen für Bundesverband pdUK - Alles rund um die pauschaldotierte Unterstützungskasse
BEGIN:VTIMEZONE
TZID:Europe/Berlin
BEGIN:DAYLIGHT
TZOFFSETFROM:+0100
TZOFFSETTO:+0200
TZNAME:CEST
DTSTART:20220327T010000
END:DAYLIGHT
BEGIN:STANDARD
TZOFFSETFROM:+0200
TZOFFSETTO:+0100
TZNAME:CET
DTSTART:20221030T010000
END:STANDARD
END:VTIMEZONE
BEGIN:VEVENT
DTSTART;TZID=Europe/Berlin:20221031T100000
DTEND;TZID=Europe/Berlin:20221031T110000
DTSTAMP:20260422T213009
CREATED:20220112T131721Z
LAST-MODIFIED:20220112T131721Z
UID:3634-1667210400-1667214000@bundesverband-pduk.de
SUMMARY:Online Seminar: Hochrechnungen und Potentialanalysen zur pauschaldotierten Unterstützungskasse richtig lesen und verstehen – die häufigsten Fehler
DESCRIPTION:Präsentation mit ausführlicher Frage- und Diskussionsrunde \n  \nReferent: Manfred Baier Wirtschaftsprüfer/Steuerberater \n  \nFür eine kostenlose Anmeldung zum Online-Seminar wenden Sie sich bitte an:  baier@bundesverband-pduk.de
URL:https://bundesverband-pduk.de/veranstaltung/online-seminar-hochrechnungen-und-potentialanalysen-zur-pauschaldotierten-unterstuetzungskasse-richtig-lesen-und-verstehen-die-haeufigsten-fehler-4/
ORGANIZER;CN="Bundesverband%20pdUK":MAILTO:info@bvpduk.de
END:VEVENT
END:VCALENDAR